BEGIN:VCALENDAR
VERSION:2.0
PRODID:-//wp-events-plugin.com//7.2.3.1//EN
TZID:America/Toronto
X-WR-TIMEZONE:America/Toronto
BEGIN:VEVENT
UID:310@bryson.ca
DTSTART:20300903T070000Z
DTEND:20300903T120000Z
DTSTAMP:20250408T155128Z
URL:https://bryson.ca/events/recyclage-2030-09-03/
SUMMARY:Collecte du recyclage
DESCRIPTION:
ATTACH;FMTTYPE=image/jpeg:https://bryson.ca/wp-content/uploads/2024/10/rec
 ycling-icon.webp
CATEGORIES:Collecte du recyclage,Recyclage et Déchets
END:VEVENT
END:VCALENDAR