BEGIN:VCALENDAR
VERSION:2.0
PRODID:-//wp-events-plugin.com//7.2.3.1//EN
TZID:America/Toronto
X-WR-TIMEZONE:America/Toronto
BEGIN:VEVENT
UID:171@bryson.ca
DTSTART:20280104T070000Z
DTEND:20280104T120000Z
DTSTAMP:20250408T155128Z
URL:https://bryson.ca/events/recyclage-2028-01-04/
SUMMARY:Collecte du recyclage
DESCRIPTION:
ATTACH;FMTTYPE=image/jpeg:https://bryson.ca/wp-content/uploads/2024/10/rec
 ycling-icon.webp
CATEGORIES:Collecte du recyclage,Recyclage et Déchets
END:VEVENT
END:VCALENDAR