BEGIN:VCALENDAR
VERSION:2.0
PRODID:-//wp-events-plugin.com//7.2.3.1//EN
TZID:America/Toronto
X-WR-TIMEZONE:America/Toronto
BEGIN:VEVENT
UID:479@bryson.ca
DTSTART;TZID=America/Toronto:20271104T070000
DTEND;TZID=America/Toronto:20271104T120000
DTSTAMP:20250408T155217Z
URL:https://bryson.ca/events/dechets-2027-11-04/
SUMMARY:Collecte des déchets
DESCRIPTION:
ATTACH;FMTTYPE=image/jpeg:https://bryson.ca/wp-content/uploads/2025/02/gar
 bage-icon.webp
CATEGORIES:Collecte des déchets,Recyclage et Déchets
END:VEVENT
BEGIN:VTIMEZONE
TZID:America/Toronto
X-LIC-LOCATION:America/Toronto
BEGIN:DAYLIGHT
DTSTART:20270314T030000
TZOFFSETFROM:-0500
TZOFFSETTO:-0400
TZNAME:EDT
END:DAYLIGHT
END:VTIMEZONE
END:VCALENDAR