BEGIN:VCALENDAR
VERSION:2.0
PRODID:-//wp-events-plugin.com//7.2.3.1//EN
TZID:America/Toronto
X-WR-TIMEZONE:America/Toronto
BEGIN:VEVENT
UID:1362@bryson.ca
DTSTART:20300903T070000Z
DTEND:20300903T120000Z
DTSTAMP:20250408T133627Z
URL:https://bryson.ca/en/events/recycling-2030-09-03/
SUMMARY:Recycling Pickup
DESCRIPTION:
ATTACH;FMTTYPE=image/jpeg:https://bryson.ca/wp-content/uploads/2024/10/rec
 ycling-icon.webp
CATEGORIES:Garbage and Recycling,Recycling
END:VEVENT
END:VCALENDAR