BEGIN:VCALENDAR
VERSION:2.0
PRODID:-//wp-events-plugin.com//7.2.3.1//EN
TZID:America/Toronto
X-WR-TIMEZONE:America/Toronto
BEGIN:VEVENT
UID:740@bryson.ca
DTSTART:20261008T070000Z
DTEND:20261008T120000Z
DTSTAMP:20250408T133054Z
URL:https://bryson.ca/en/events/dechets-2026-10-08/
SUMMARY:Waste Pickup
DESCRIPTION:
ATTACH;FMTTYPE=image/jpeg:https://bryson.ca/wp-content/uploads/2025/02/gar
 bage-icon.webp
CATEGORIES:Garbage,Garbage and Recycling
END:VEVENT
END:VCALENDAR